BEGIN:VCALENDAR
VERSION:2.0
PRODID:-//La Obrería - ECPv6.15.11//NONSGML v1.0//EN
CALSCALE:GREGORIAN
METHOD:PUBLISH
X-ORIGINAL-URL:https://www.laobreria.com.ar
X-WR-CALDESC:Eventos para La Obrería
REFRESH-INTERVAL;VALUE=DURATION:PT1H
X-Robots-Tag:noindex
X-PUBLISHED-TTL:PT1H
BEGIN:VTIMEZONE
TZID:America/Sao_Paulo
BEGIN:STANDARD
TZOFFSETFROM:-0300
TZOFFSETTO:-0300
TZNAME:-03
DTSTART:20220101T000000
END:STANDARD
END:VTIMEZONE
BEGIN:VEVENT
DTSTART;TZID=America/Sao_Paulo:20230429T110000
DTEND;TZID=America/Sao_Paulo:20230429T133000
DTSTAMP:20260425T195317
CREATED:20230402T214011Z
LAST-MODIFIED:20230402T214011Z
UID:10859-1682766000-1682775000@www.laobreria.com.ar
SUMMARY:TALLER ONLINE DE ALFAJORES
DESCRIPTION:CHEF: LUCAS FUENTE
URL:https://www.laobreria.com.ar/event/taller-de-pasteleria-sin-azucar-2-3-2-2-4-2/
LOCATION:Montevideo\, Sarandi 252\, esq. Perez Castellano\, Montevideo\, Uruguay
CATEGORIES:Taller Online
ATTACH;FMTTYPE=image/jpeg:https://www.laobreria.com.ar/wp-content/uploads/2020/10/ALFAJORES20-2-2.jpg
ORGANIZER;CN="La Obrer%C3%ADa":MAILTO:laobreria@gmail.com
END:VEVENT
END:VCALENDAR