BEGIN:VCALENDAR
VERSION:2.0
PRODID:-//La Obrería - ECPv6.15.11//NONSGML v1.0//EN
CALSCALE:GREGORIAN
METHOD:PUBLISH
X-WR-CALNAME:La Obrería
X-ORIGINAL-URL:https://www.laobreria.com.ar
X-WR-CALDESC:Eventos para La Obrería
REFRESH-INTERVAL;VALUE=DURATION:PT1H
X-Robots-Tag:noindex
X-PUBLISHED-TTL:PT1H
BEGIN:VTIMEZONE
TZID:America/Sao_Paulo
BEGIN:STANDARD
TZOFFSETFROM:-0300
TZOFFSETTO:-0300
TZNAME:-03
DTSTART:20230101T000000
END:STANDARD
END:VTIMEZONE
BEGIN:VEVENT
DTSTART;TZID=America/Sao_Paulo:20240420T110000
DTEND;TZID=America/Sao_Paulo:20240420T133000
DTSTAMP:20260425T002905
CREATED:20240304T210805Z
LAST-MODIFIED:20240325T164927Z
UID:13137-1713610800-1713619800@www.laobreria.com.ar
SUMMARY:TALLER DE CUADRADOS DULCES
DESCRIPTION:CHEF: LUCAS FUENTE
URL:https://www.laobreria.com.ar/event/taller-online-de-cuadrados-dulces-2/
LOCATION:Montevideo\, Sarandi 252\, esq. Perez Castellano\, Montevideo\, Uruguay
CATEGORIES:Taller Online
ATTACH;FMTTYPE=image/jpeg:https://www.laobreria.com.ar/wp-content/uploads/2020/10/cuadrados.jpg
ORGANIZER;CN="La Obrer%C3%ADa":MAILTO:laobreria@gmail.com
END:VEVENT
END:VCALENDAR