BEGIN:VCALENDAR
VERSION:2.0
PRODID:-//La Obrería - ECPv6.15.11//NONSGML v1.0//EN
CALSCALE:GREGORIAN
METHOD:PUBLISH
X-ORIGINAL-URL:https://www.laobreria.com.ar
X-WR-CALDESC:Eventos para La Obrería
REFRESH-INTERVAL;VALUE=DURATION:PT1H
X-Robots-Tag:noindex
X-PUBLISHED-TTL:PT1H
BEGIN:VTIMEZONE
TZID:America/Sao_Paulo
BEGIN:STANDARD
TZOFFSETFROM:-0300
TZOFFSETTO:-0300
TZNAME:-03
DTSTART:20250101T000000
END:STANDARD
END:VTIMEZONE
BEGIN:VEVENT
DTSTART;TZID=America/Sao_Paulo:20260202T190000
DTEND;TZID=America/Sao_Paulo:20260202T220000
DTSTAMP:20260423T073717
CREATED:20260106T151116Z
LAST-MODIFIED:20260106T151116Z
UID:17586-1770058800-1770069600@www.laobreria.com.ar
SUMMARY:TALLER DE COOKIES LEVAIN
DESCRIPTION:CHEF: LUCAS FUENTE
URL:https://www.laobreria.com.ar/event/seminario-de-chocolateria-2-2-3-2-2-2-2-2/
LOCATION:buenos aires\, Buenos Aires\, Argentina
CATEGORIES:Taller prescencial
ATTACH;FMTTYPE=image/jpeg:https://www.laobreria.com.ar/wp-content/uploads/2025/05/IMG_9399-en-tamano-mediano.jpeg
ORGANIZER;CN="La Obrer%C3%ADa":MAILTO:laobreria@gmail.com
END:VEVENT
BEGIN:VEVENT
DTSTART;TZID=America/Sao_Paulo:20260203T190000
DTEND;TZID=America/Sao_Paulo:20260203T220000
DTSTAMP:20260423T073717
CREATED:20260106T151358Z
LAST-MODIFIED:20260106T151358Z
UID:17588-1770145200-1770156000@www.laobreria.com.ar
SUMMARY:TALLER DE ALFAJORES
DESCRIPTION:Chef: Lucas Fuente
URL:https://www.laobreria.com.ar/event/taller-de-alfajores-2-2-2-2-2-2-2-2-3-2-2-2-2-2-2-2-2-2-2-2-2-3-3-2-2-2-2-2-2-2-2-2-2-2-2-2/
LOCATION:buenos aires\, Buenos Aires\, Argentina
CATEGORIES:Taller prescencial
ATTACH;FMTTYPE=image/jpeg:https://www.laobreria.com.ar/wp-content/uploads/2020/10/dsc08775-edit-copy-scaled.jpg
ORGANIZER;CN="La Obrer%C3%ADa":MAILTO:laobreria@gmail.com
END:VEVENT
BEGIN:VEVENT
DTSTART;TZID=America/Sao_Paulo:20260204T190000
DTEND;TZID=America/Sao_Paulo:20260204T220000
DTSTAMP:20260423T073717
CREATED:20260106T153015Z
LAST-MODIFIED:20260106T153015Z
UID:17590-1770231600-1770242400@www.laobreria.com.ar
SUMMARY:TALLER DE HAMBURGUESAS
DESCRIPTION:
URL:https://www.laobreria.com.ar/event/taller-de-sushi-2-2-2-2-2-2-2-2-2-2-2-2-2-2-2-2-2-2-2-2-2-2-2-2-2/
LOCATION:Montevideo\, Sarandi 252\, esq. Perez Castellano\, Montevideo\, Uruguay
CATEGORIES:Taller prescencial
ATTACH;FMTTYPE=image/jpeg:https://www.laobreria.com.ar/wp-content/uploads/2020/10/90300180_1426685970867094_1131264290930556928_o.jpg
ORGANIZER;CN="La Obrer%C3%ADa":MAILTO:laobreria@gmail.com
END:VEVENT
BEGIN:VEVENT
DTSTART;TZID=America/Sao_Paulo:20260209T190000
DTEND;TZID=America/Sao_Paulo:20260209T220000
DTSTAMP:20260423T073717
CREATED:20260106T145029Z
LAST-MODIFIED:20260106T145029Z
UID:17579-1770663600-1770674400@www.laobreria.com.ar
SUMMARY:LABORATORIO DI PASTA
DESCRIPTION:CHEF: LUCIO D´IMPERIO \n  \nCLASE 1
URL:https://www.laobreria.com.ar/event/taller-de-tartas-gourmet-2-2-2-2-2-2-2-2-2-3-2-2-2-3-2-3-2-2-2-2-2-2-2-2-2-2-2-2-2-2-2-2-2-2-2-2/
LOCATION:buenos aires\, Buenos Aires\, Argentina
CATEGORIES:Taller prescencial
ATTACH;FMTTYPE=image/jpeg:https://www.laobreria.com.ar/wp-content/uploads/2022/10/20220419_180046-scaled.jpg
ORGANIZER;CN="La Obrer%C3%ADa":MAILTO:laobreria@gmail.com
END:VEVENT
BEGIN:VEVENT
DTSTART;TZID=America/Sao_Paulo:20260210T190000
DTEND;TZID=America/Sao_Paulo:20260210T220000
DTSTAMP:20260423T073717
CREATED:20260106T145206Z
LAST-MODIFIED:20260106T145206Z
UID:17582-1770750000-1770760800@www.laobreria.com.ar
SUMMARY:LABORATORIO DI PASTA
DESCRIPTION:CLASE 2 \nCHEF: LUCIO D´IMPERIO
URL:https://www.laobreria.com.ar/event/taller-de-tartas-gourmet-2-2-2-2-2-2-2-2-2-3-2-2-2-3-2-2-2-2-2-2-2-2-2-2-2-2-2-2-2-2-2-2-2-2-2-2-3/
LOCATION:buenos aires\, Buenos Aires\, Argentina
CATEGORIES:Taller prescencial
ATTACH;FMTTYPE=image/jpeg:https://www.laobreria.com.ar/wp-content/uploads/2022/10/20221018_122705-scaled.jpg
ORGANIZER;CN="La Obrer%C3%ADa":MAILTO:laobreria@gmail.com
END:VEVENT
END:VCALENDAR