BEGIN:VCALENDAR
VERSION:2.0
PRODID:-//La Obrería - ECPv6.15.11//NONSGML v1.0//EN
CALSCALE:GREGORIAN
METHOD:PUBLISH
X-ORIGINAL-URL:https://www.laobreria.com.ar
X-WR-CALDESC:Eventos para La Obrería
REFRESH-INTERVAL;VALUE=DURATION:PT1H
X-Robots-Tag:noindex
X-PUBLISHED-TTL:PT1H
BEGIN:VTIMEZONE
TZID:America/Sao_Paulo
BEGIN:STANDARD
TZOFFSETFROM:-0300
TZOFFSETTO:-0300
TZNAME:-03
DTSTART:20250101T000000
END:STANDARD
END:VTIMEZONE
BEGIN:VEVENT
DTSTART;TZID=America/Sao_Paulo:20260302T190000
DTEND;TZID=America/Sao_Paulo:20260302T220000
DTSTAMP:20260423T055908
CREATED:20260204T145234Z
LAST-MODIFIED:20260204T145234Z
UID:17646-1772478000-1772488800@www.laobreria.com.ar
SUMMARY:TALLER DE COOKIES LEVAIN
DESCRIPTION:CHEF: LUCAS FUENTE
URL:https://www.laobreria.com.ar/event/seminario-de-chocolateria-2-2-3-2-2-2-2-2-2/
LOCATION:buenos aires\, Buenos Aires\, Argentina
CATEGORIES:Taller prescencial
ATTACH;FMTTYPE=image/jpeg:https://www.laobreria.com.ar/wp-content/uploads/2025/05/IMG_9399-en-tamano-mediano.jpeg
ORGANIZER;CN="La Obrer%C3%ADa":MAILTO:laobreria@gmail.com
END:VEVENT
BEGIN:VEVENT
DTSTART;TZID=America/Sao_Paulo:20260303T190000
DTEND;TZID=America/Sao_Paulo:20260303T213000
DTSTAMP:20260423T055908
CREATED:20260204T145325Z
LAST-MODIFIED:20260204T145325Z
UID:17648-1772564400-1772573400@www.laobreria.com.ar
SUMMARY:TALLER DE MEDIALUNAS
DESCRIPTION:Chef: Lucas Fuente
URL:https://www.laobreria.com.ar/event/taller-de-medialunas-on-line-2-2-2-2-2-2-2-2-2-2-2-2-2-2-2-2-2-2-2/
CATEGORIES:Taller prescencial
ATTACH;FMTTYPE=image/jpeg:https://www.laobreria.com.ar/wp-content/uploads/2020/10/WhatsApp-Image-2025-11-14-at-8.00.45-PM.jpeg
ORGANIZER;CN="La Obrer%C3%ADa":MAILTO:laobreria@gmail.com
END:VEVENT
BEGIN:VEVENT
DTSTART;TZID=America/Sao_Paulo:20260304T190000
DTEND;TZID=America/Sao_Paulo:20260304T220000
DTSTAMP:20260423T055908
CREATED:20260214T171728Z
LAST-MODIFIED:20260214T171728Z
UID:17669-1772650800-1772661600@www.laobreria.com.ar
SUMMARY:TALLER DE HAMBURGUESAS
DESCRIPTION:
URL:https://www.laobreria.com.ar/event/taller-de-sushi-2-2-2-2-2-2-2-2-2-2-2-2-2-2-2-2-2-2-2-2-2-2-2-2-2-2/
LOCATION:buenos aires\, Buenos Aires\, Argentina
CATEGORIES:Taller prescencial
ATTACH;FMTTYPE=image/jpeg:https://www.laobreria.com.ar/wp-content/uploads/2020/10/90300180_1426685970867094_1131264290930556928_o.jpg
ORGANIZER;CN="La Obrer%C3%ADa":MAILTO:laobreria@gmail.com
END:VEVENT
BEGIN:VEVENT
DTSTART;TZID=America/Sao_Paulo:20260305T190000
DTEND;TZID=America/Sao_Paulo:20260305T220000
DTSTAMP:20260423T055908
CREATED:20260214T172037Z
LAST-MODIFIED:20260214T172037Z
UID:17675-1772737200-1772748000@www.laobreria.com.ar
SUMMARY:TALLER DE BOLLERIA
DESCRIPTION:Chef: Lucas Fuente
URL:https://www.laobreria.com.ar/event/taller-de-viennoiserie-2-2-2-2-2-2-2-2-2-2-2-3-2-3-2-2-2-2-2-2-2-2-2-2-2-2-2/
LOCATION:buenos aires\, Buenos Aires\, Argentina
CATEGORIES:Taller prescencial
ATTACH;FMTTYPE=image/jpeg:https://www.laobreria.com.ar/wp-content/uploads/2020/10/291889784_5046727358788273_972392253506466697_n.jpg
ORGANIZER;CN="La Obrer%C3%ADa":MAILTO:laobreria@gmail.com
END:VEVENT
BEGIN:VEVENT
DTSTART;TZID=America/Sao_Paulo:20260307T110000
DTEND;TZID=America/Sao_Paulo:20260307T140000
DTSTAMP:20260423T055908
CREATED:20260225T135707Z
LAST-MODIFIED:20260225T135707Z
UID:17711-1772881200-1772892000@www.laobreria.com.ar
SUMMARY:TALLER DE ALFAJORES
DESCRIPTION:Chef: Lucas Fuente
URL:https://www.laobreria.com.ar/event/taller-de-alfajores-2-2-2-2-2-2-2-2-3-2-2-2-2-2-2-2-2-2-2-2-2-3-3-2-2-2-2-2-2-2-2-2-2-2-2-2-2/
LOCATION:buenos aires\, Buenos Aires\, Argentina
CATEGORIES:Taller prescencial
ATTACH;FMTTYPE=image/jpeg:https://www.laobreria.com.ar/wp-content/uploads/2020/10/dsc08775-edit-copy-scaled.jpg
ORGANIZER;CN="La Obrer%C3%ADa":MAILTO:laobreria@gmail.com
END:VEVENT
BEGIN:VEVENT
DTSTART;TZID=America/Sao_Paulo:20260309T190000
DTEND;TZID=America/Sao_Paulo:20260309T220000
DTSTAMP:20260423T055908
CREATED:20260214T171848Z
LAST-MODIFIED:20260214T171848Z
UID:17671-1773082800-1773093600@www.laobreria.com.ar
SUMMARY:LABORATORIO DI PASTA
DESCRIPTION:CHEF: LUCIO D´IMPERIO \n  \nCLASE 1
URL:https://www.laobreria.com.ar/event/taller-de-tartas-gourmet-2-2-2-2-2-2-2-2-2-3-2-2-2-3-2-3-2-2-2-2-2-2-2-2-2-2-2-2-2-2-2-2-2-2-2-2-2/
LOCATION:buenos aires\, Buenos Aires\, Argentina
CATEGORIES:Taller prescencial
ATTACH;FMTTYPE=image/jpeg:https://www.laobreria.com.ar/wp-content/uploads/2022/10/20220419_180046-scaled.jpg
ORGANIZER;CN="La Obrer%C3%ADa":MAILTO:laobreria@gmail.com
END:VEVENT
BEGIN:VEVENT
DTSTART;TZID=America/Sao_Paulo:20260310T190000
DTEND;TZID=America/Sao_Paulo:20260310T220000
DTSTAMP:20260423T055908
CREATED:20260214T171922Z
LAST-MODIFIED:20260214T171922Z
UID:17673-1773169200-1773180000@www.laobreria.com.ar
SUMMARY:LABORATORIO DI PASTA
DESCRIPTION:CLASE 2 \nCHEF: LUCIO D´IMPERIO
URL:https://www.laobreria.com.ar/event/taller-de-tartas-gourmet-2-2-2-2-2-2-2-2-2-3-2-2-2-3-2-2-2-2-2-2-2-2-2-2-2-2-2-2-2-2-2-2-2-2-2-2-3-2/
LOCATION:buenos aires\, Buenos Aires\, Argentina
CATEGORIES:Taller prescencial
ATTACH;FMTTYPE=image/jpeg:https://www.laobreria.com.ar/wp-content/uploads/2022/10/20221018_122705-scaled.jpg
ORGANIZER;CN="La Obrer%C3%ADa":MAILTO:laobreria@gmail.com
END:VEVENT
BEGIN:VEVENT
DTSTART;TZID=America/Sao_Paulo:20260311T190000
DTEND;TZID=America/Sao_Paulo:20260311T220000
DTSTAMP:20260423T055908
CREATED:20260214T172143Z
LAST-MODIFIED:20260214T212246Z
UID:17677-1773255600-1773266400@www.laobreria.com.ar
SUMMARY:TALLER DE PIZZAS
DESCRIPTION:CHEF: GABO COLACIOPPO
URL:https://www.laobreria.com.ar/event/taller-de-pizzas-2-2-2-2-2-2-2-2-2-3-4-2-2-2-2-2-2-2-2-2/
LOCATION:buenos aires\, Buenos Aires\, Argentina
CATEGORIES:Taller prescencial
ATTACH;FMTTYPE=image/jpeg:https://www.laobreria.com.ar/wp-content/uploads/2020/10/PIZZA-2-2-2.jpg
ORGANIZER;CN="La Obrer%C3%ADa":MAILTO:laobreria@gmail.com
END:VEVENT
BEGIN:VEVENT
DTSTART;TZID=America/Sao_Paulo:20260316T190000
DTEND;TZID=America/Sao_Paulo:20260316T220000
DTSTAMP:20260423T055908
CREATED:20260206T193715Z
LAST-MODIFIED:20260214T174931Z
UID:17659-1773687600-1773698400@www.laobreria.com.ar
SUMMARY:TALLER DE PASTAS RELLENAS
DESCRIPTION:Chef: Lucio D’ Imperio
URL:https://www.laobreria.com.ar/event/taller-de-pastas-rellenas-2-2-2-2-2-2-2-2-3-3-2-2-2-3-2-3/
LOCATION:buenos aires\, Buenos Aires\, Argentina
CATEGORIES:Taller prescencial
ATTACH;FMTTYPE=image/jpeg:https://www.laobreria.com.ar/wp-content/uploads/2023/02/WhatsApp-Image-2023-04-14-at-10.47.00-e1681766157435.jpeg
ORGANIZER;CN="La Obrer%C3%ADa":MAILTO:laobreria@gmail.com
END:VEVENT
BEGIN:VEVENT
DTSTART;TZID=America/Sao_Paulo:20260317T190000
DTEND;TZID=America/Sao_Paulo:20260317T220000
DTSTAMP:20260423T055908
CREATED:20260206T195653Z
LAST-MODIFIED:20260206T195653Z
UID:17664-1773774000-1773784800@www.laobreria.com.ar
SUMMARY:TALLER DE SUSHI NIKKEI PERUANO
DESCRIPTION:Chef: Facundo Kreiman
URL:https://www.laobreria.com.ar/event/taller-de-sushi-2-2-2-2-3-2-3-2-2-2-3-2-2-2-2-2-2-2-2-2-2-2-2-2-2-2-2-2-2-2-2-2-2-2-2-2-2-2-2-2-2-2-3-2-2-2-2-2-2/
LOCATION:Montevideo\, Sarandi 252\, esq. Perez Castellano\, Montevideo\, Uruguay
CATEGORIES:Taller prescencial
ATTACH;FMTTYPE=image/jpeg:https://www.laobreria.com.ar/wp-content/uploads/2025/10/FOTO-SUSHI.jpg
ORGANIZER;CN="La Obrer%C3%ADa":MAILTO:laobreria@gmail.com
END:VEVENT
END:VCALENDAR