BEGIN:VCALENDAR
VERSION:2.0
PRODID:-//La Obrería - ECPv6.15.11//NONSGML v1.0//EN
CALSCALE:GREGORIAN
METHOD:PUBLISH
X-WR-CALNAME:La Obrería
X-ORIGINAL-URL:https://www.laobreria.com.ar
X-WR-CALDESC:Eventos para La Obrería
REFRESH-INTERVAL;VALUE=DURATION:PT1H
X-Robots-Tag:noindex
X-PUBLISHED-TTL:PT1H
BEGIN:VTIMEZONE
TZID:America/Sao_Paulo
BEGIN:STANDARD
TZOFFSETFROM:-0300
TZOFFSETTO:-0300
TZNAME:-03
DTSTART:20250101T000000
END:STANDARD
END:VTIMEZONE
BEGIN:VEVENT
DTSTART;TZID=America/Sao_Paulo:20260506T190000
DTEND;TZID=America/Sao_Paulo:20260506T220000
DTSTAMP:20260423T120427
CREATED:20260413T220713Z
LAST-MODIFIED:20260413T220713Z
UID:17866-1778094000-1778104800@www.laobreria.com.ar
SUMMARY:LABORATORIO DI PASTA
DESCRIPTION:CHEF: LUCIO D´IMPERIO \n  \nCLASE 1
URL:https://www.laobreria.com.ar/event/taller-de-tartas-gourmet-2-2-2-2-2-2-2-2-2-3-2-2-2-3-2-3-2-2-2-2-2-2-2-2-2-2-2-2-2-2-2-2-2-2-2-2-2-2-2/
LOCATION:buenos aires\, Buenos Aires\, Argentina
CATEGORIES:Taller prescencial
ATTACH;FMTTYPE=image/jpeg:https://www.laobreria.com.ar/wp-content/uploads/2022/10/20220419_180046-scaled.jpg
ORGANIZER;CN="La Obrer%C3%ADa":MAILTO:laobreria@gmail.com
END:VEVENT
BEGIN:VEVENT
DTSTART;TZID=America/Sao_Paulo:20260507T190000
DTEND;TZID=America/Sao_Paulo:20260507T220000
DTSTAMP:20260423T120427
CREATED:20260413T220807Z
LAST-MODIFIED:20260413T220807Z
UID:17868-1778180400-1778191200@www.laobreria.com.ar
SUMMARY:LABORATORIO DI PASTA
DESCRIPTION:CLASE 2 \nCHEF: LUCIO D´IMPERIO
URL:https://www.laobreria.com.ar/event/taller-de-tartas-gourmet-2-2-2-2-2-2-2-2-2-3-2-2-2-3-2-2-2-2-2-2-2-2-2-2-2-2-2-2-2-2-2-2-2-2-2-2-3-2-2-2/
LOCATION:buenos aires\, Buenos Aires\, Argentina
CATEGORIES:Taller prescencial
ATTACH;FMTTYPE=image/jpeg:https://www.laobreria.com.ar/wp-content/uploads/2022/10/20221018_122705-scaled.jpg
ORGANIZER;CN="La Obrer%C3%ADa":MAILTO:laobreria@gmail.com
END:VEVENT
BEGIN:VEVENT
DTSTART;TZID=America/Sao_Paulo:20260514T190000
DTEND;TZID=America/Sao_Paulo:20260514T220000
DTSTAMP:20260423T120427
CREATED:20260310T154423Z
LAST-MODIFIED:20260417T215505Z
UID:17770-1778785200-1778796000@www.laobreria.com.ar
SUMMARY:TALLER DE MEDIALUNAS
DESCRIPTION:Chef: Lucas Fuente
URL:https://www.laobreria.com.ar/event/taller-de-medialunas-on-line-2-2-2-2-2-2-2-2-2-2-2-2-2-2-2-2-2-2-2-2/
CATEGORIES:Taller prescencial
ATTACH;FMTTYPE=image/jpeg:https://www.laobreria.com.ar/wp-content/uploads/2020/10/WhatsApp-Image-2025-11-14-at-8.00.45-PM.jpeg
ORGANIZER;CN="La Obrer%C3%ADa":MAILTO:laobreria@gmail.com
END:VEVENT
END:VCALENDAR