BEGIN:VCALENDAR
VERSION:2.0
PRODID:-//La Obrería - ECPv6.15.11//NONSGML v1.0//EN
CALSCALE:GREGORIAN
METHOD:PUBLISH
X-WR-CALNAME:La Obrería
X-ORIGINAL-URL:https://www.laobreria.com.ar
X-WR-CALDESC:Eventos para La Obrería
REFRESH-INTERVAL;VALUE=DURATION:PT1H
X-Robots-Tag:noindex
X-PUBLISHED-TTL:PT1H
BEGIN:VTIMEZONE
TZID:America/Sao_Paulo
BEGIN:STANDARD
TZOFFSETFROM:-0300
TZOFFSETTO:-0300
TZNAME:-03
DTSTART:20250101T000000
END:STANDARD
END:VTIMEZONE
BEGIN:VEVENT
DTSTART;TZID=America/Sao_Paulo:20260425T100000
DTEND;TZID=America/Sao_Paulo:20260425T130000
DTSTAMP:20260423T061402
CREATED:20260310T182659Z
LAST-MODIFIED:20260310T182659Z
UID:17775-1777111200-1777122000@www.laobreria.com.ar
SUMMARY:TALLER DE COOKIES LEVAIN
DESCRIPTION:CHEF: LUCAS FUENTE
URL:https://www.laobreria.com.ar/event/seminario-de-chocolateria-2-2-3-2-2-2-2-2-2-2/
LOCATION:buenos aires\, Buenos Aires\, Argentina
CATEGORIES:Taller prescencial
ATTACH;FMTTYPE=image/jpeg:https://www.laobreria.com.ar/wp-content/uploads/2025/05/IMG_9399-en-tamano-mediano.jpeg
ORGANIZER;CN="La Obrer%C3%ADa":MAILTO:laobreria@gmail.com
END:VEVENT
BEGIN:VEVENT
DTSTART;TZID=America/Sao_Paulo:20260425T170000
DTEND;TZID=America/Sao_Paulo:20260425T200000
DTSTAMP:20260423T061402
CREATED:20260310T182739Z
LAST-MODIFIED:20260310T182739Z
UID:17777-1777136400-1777147200@www.laobreria.com.ar
SUMMARY:TALLER DE BOLLERIA
DESCRIPTION:Chef: Lucas Fuente
URL:https://www.laobreria.com.ar/event/taller-de-viennoiserie-2-2-2-2-2-2-2-2-2-2-2-3-2-3-2-2-2-2-2-2-2-2-2-2-2-2-2-2/
LOCATION:buenos aires\, Buenos Aires\, Argentina
CATEGORIES:Taller prescencial
ATTACH;FMTTYPE=image/jpeg:https://www.laobreria.com.ar/wp-content/uploads/2020/10/291889784_5046727358788273_972392253506466697_n.jpg
ORGANIZER;CN="La Obrer%C3%ADa":MAILTO:laobreria@gmail.com
END:VEVENT
END:VCALENDAR